BEGIN:VCALENDAR
VERSION:2.0
PRODID:-//HC Nyon - ECPv6.2.6.1//NONSGML v1.0//EN
CALSCALE:GREGORIAN
METHOD:PUBLISH
X-WR-CALNAME:HC Nyon
X-ORIGINAL-URL:https://www.hcnyon.ch
X-WR-CALDESC:évènements pour HC Nyon
REFRESH-INTERVAL;VALUE=DURATION:PT1H
X-Robots-Tag:noindex
X-PUBLISHED-TTL:PT1H
BEGIN:VTIMEZONE
TZID:UTC
BEGIN:STANDARD
TZOFFSETFROM:+0000
TZOFFSETTO:+0000
TZNAME:UTC
DTSTART:20240101T000000
END:STANDARD
END:VTIMEZONE
BEGIN:VEVENT
DTSTART;TZID=UTC:20241102T153000
DTEND;TZID=UTC:20241102T170000
DTSTAMP:20260422T011412
CREATED:20240909T120605Z
LAST-MODIFIED:20240909T120705Z
UID:2472-1730561400-1730566800@www.hcnyon.ch
SUMMARY:Essayage de patins avec Jan Sport
DESCRIPTION:LOCATION DES PATINSVenez essayer les patins à glaces que vous avez commandé avec le formulaire envoyé lors de l’inscription. \nCette essayage est uniquement prévu pour les école de patinage artistique. \nVous pourrez adapté les tailles des patins selon les ressentis sur glace.
URL:https://www.hcnyon.ch/evenement/essayage-de-patins-avec-jan-sport/
LOCATION:Patinoire de Nyon
CATEGORIES:Patinage artistique
ATTACH;FMTTYPE=image/jpeg:https://www.hcnyon.ch/wp-content/uploads/2023/08/hc-nyon-bg-ice2.jpg
END:VEVENT
END:VCALENDAR